BEGIN:VCALENDAR
VERSION:2.0
PRODID:-//eventon.com NONSGML v1.0//EN
CALSCALE:GREGORIAN
METHOD:PUBLISH
BEGIN:VEVENT
UID:69ea2ff064c78
DTSTAMP:20260423T144256Z
DTSTART:20200508T183000Z
DTEND:20200515T130000Z
LOCATION:Costa Rei\,  Sardinien
SUMMARY:Fasten und Transformation Woche auf Sardinien
DESCRIPTION:[vc_row][vc_column][vc_column_text]Datum: Freitag 8. Mai – Fr
 eitag 15. Mai 2020 mit der Option von 16. &#8211; 23. Mai 2020 für deine T
 eilnahme an der Sport &#8211; und Nutritionweek zu verlängern und auf den 
 Gesamtpreis 15% zu sparen. Die anschliessende Teilnahme an der Sport- und N
 utritionweek gibt die Möglichkeit durch den Koch-[..]\nhttp://www.wellvill
 e.at/events/detox-und-transformation-woche-auf-sardinien/
URL:http://www.wellville.at/events/detox-und-transformation-woche-auf-sardinien/
END:VEVENT
END:VCALENDAR